Workbook

Sheet Rozpočet k vyplnění v DPMK
A1: Rozpočet projektu (náklady)
A2: Název | B2: Celkové náklady projektu | C2: Náklady projektu hrazené mimo dotaci | D2: Náklady projektu požadované hradit z dotace
A3: NÁKLADY CELKEM | B3: =SUM(B5:B17) -> 0 | C3: =SUM(C5:C17) -> 0 | D3: =SUM(D5:D17) -> 0
A4: Náklady z činnosti | B4: =B3 -> 0 | C4: =C3 -> 0 | D4: =D3 -> 0
A5: Spotřeba materiálu | B5: ='Položkový rozpočet'!D10:D10 -> 0 | C5: =B5-D5 -> 0 | D5: ='Položkový rozpočet'!H10:H10 -> 0
A6: Spotřeba energie | B6: ='Položkový rozpočet'!D27:D27 -> 0 | C6: =B6-D6 -> 0 | D6: ='Položkový rozpočet'!H27:H27 -> 0
A7: Prodané zboží | B7: 0 | C7: 0 | D7: 0
A8: Opravy a udržování | B8: 0 | C8: 0 | D8: 0
A9: Cestovné | B9: ='Položkový rozpočet'!D24:D24 -> 0 | C9: =B9-D9 -> 0 | D9: ='Položkový rozpočet'!H24:H24 -> 0
A10: Náklady na reprezentaci | B10: 0 | C10: 0 | D10: 0
A11: Ostatní služby | B11: ='Položkový rozpočet'!D22:D22+'Položkový rozpočet'!D23:D23+'Položkový rozpočet'!D25:D25+'Položkový rozpočet'!D26:D26+'Položkový rozpočet'!D29:D29+'Položkový rozpočet'!D30:D30+'Položkový rozpočet'!D31:D31+'Položkový rozpočet'!D32:D32+'Položkový rozpočet'!D33:D33+'Položkový rozpočet'!D34:D34+'Položkový rozpočet'!D35:D35+'Položkový rozpočet'!D36:D36+'Položkový rozpočet'!D37:D37+'Položkový rozpočet'!D38:D38 -> 0 | C11: =B11-D11 -> 0 | D11: ='Položkový rozpočet'!H22:H22+'Položkový rozpočet'!H23:H23+'Položkový rozpočet'!H25:H25+'Položkový rozpočet'!H26:H26+'Položkový rozpočet'!H29:H29+'Položkový rozpočet'!H30:H30+'Položkový rozpočet'!H31:H31+'Položkový rozpočet'!H32:H32+'Položkový rozpočet'!H33:H33+'Položkový rozpočet'!H34:H34+'Položkový rozpočet'!H35:H35+'Položkový rozpočet'!H36:H36+'Položkový rozpočet'!H37:H37+'Položkový rozpočet'!H38:H38 -> 0
A12: Mzdové náklady | B12: ='Položkový rozpočet'!D39:D39 -> 0 | C12: =B12-D12 -> 0 | D12: ='Položkový rozpočet'!H39:H39 -> 0
A13: Zákonné sociální pojištění | B13: 0 | C13: 0 | D13: 0
A14: Jiné sociální pojištění | B14: 0 | C14: 0 | D14: 0
A15: Zákonné sociální náklady | B15: 0 | C15: 0 | D15: 0
A16: Jiné sociální náklady | B16: 0 | C16: 0 | D16: 0
A17: Ostatní náklady z činnosti | B17: 0 | C17: 0 | D17: 0
A18: Finanční náklady | B18: =SUM(B19) -> 0 | C18: =SUM(C19) -> 0 | D18: =SUM(D19) -> 0
A19: Ostatní finanční náklady | B19: =SUM(C19:D19) -> 0 | C19: 0 | D19: 0

Sheet Položkový rozpočet
A2: ROZPOČET PROJEKTU
A4: Žadatel:
A5: Číslo výzvy/program:
A6: Přesný název projektu:
A8: Náklady na projekt (nutno vyplnit oba sloupce str. 1 a v příloze č. 2 podrobně zdůvodnit jednotlivé požadované položky)
A9: Druh výdajů | D9: Celkový rozpočet | H9: Úhrada z dotace MK
A10: Materiálové náklady | D10: =SUM(D11:G20) -> 0 | H10: =SUM(H11:J20) -> 0
A11: z toho | B11: materiál
B12: vybavení
B13: kancelářské potřeby
B14: jiné (specifikovat) ↓
A21: Nemateriálové n. (služby) | D21: =SUM(D22:G38) -> 0 | H21: =SUM(H22:J38) -> 0
A22: z toho | B22: nájemné
B23: přeprava osob a materiálu
B24: cestovné*
B25: propagace
B26: poštovné, telefon
B27: spotřeba energie**
B28: jiné (specifikovat) ↓
A39: Osobní náklady | D39: =SUM(D40:G41,D43:G44) -> 0 | H39: =SUM(H40:J41,H43:J44) -> 0
A40: z toho | B40: mzdy včetně odvodů
A41: ostatní osobní náklady
A42: počet osob: →
A45: Neinvestiční náklady celkem | D45: =SUM(D10+D21+D39) -> 0 | H45: =SUM(H10+H21+H39) -> 0
A46: Podíl dotace ze státního rozpočtu na financování projektu v % jako podíl z jeho celkového rozpočtu. | D46: =(H45*100)/D45 -> #DIV/0! | E46: %
A47: * Z dotace lze hradit pouze jízdné ve výši odpovídající ceně jízdenky za prostředek hromadné dopravy, a to i v případě použití silničního motorového vozidla ** Ověřte si, zda je tato položka ve vybraném dotačním programu podporována, popř. v jakém rozsahu (viz podmínky)
A51: Žadatel: | B51: =B4 -> 0
A52: Na projekt v programu: | C52: =C5 -> 0
A53: Přesný název projektu: | C53: =C6 -> 0
A54: Podrobné zdůvodnění požadovaných položek
A56: Poznámka:
A57: Konkretizujte jednotlivé položky (např. materiál - výtvarné potřeby apod.), u dopravy a přepravy materiálu uveďte kým bude zajišťována, u nájemného uveďte, jaké prostory nebo co budete najímat a na jak dlouho, u osobních nákladů uvádějte přesný počet osob - UVÁDĚJTE POUZE POLOŽKY POŽADOVANÉ PO MK!!!
A58: Položka: | D58: Požadovaná výše dotace | G58: Odůvodnění (se zřetelem na obsah projektu)
A96: Požadovaná výše dotace celkem | D96: =SUM(D59:F95) -> 0

Sheet Pokyny k vyplnění
A1: Pokyny k vyplnění
A3: Žadatel vyplní pouze kartu Položkový rozpočet. Na této kartě nikdy nevyplňuje barevné (šedé, modré a oranžové) buňky, jakkoli jsou defoltně zamčené a nemělo by to tak být možné.
A4: Na řádku 5 položkového rozpočtu - "Číslo výzvy/program:" vyberte příslušný dotační program pomocí šipky rozevíracího seznamu na konci řádku.
A5: Mzdy a OON mimo dotaci a z dotace – obsahují mzdy, platy či odměny vyplácené na základě pracovních smluv, dohod o provedení práce a dohod o pracovní činnosti.
A6: Zákonné odvody mimo dotaci a z dotace – obsahují veškeré zákonné (sociální a zdravotní) pojištění hrazené zaměstnavatelem z mezd, platů a odměn vyplácených na základě pracovních smluv, dohod o provedení práce a dohod o pracovní činnosti podle předpisů platných v roce 2026.
A7: Cestovné lze hradit pouze po území ČR do výše odpovídající ceně jízdenky za prostředek hromadné dopravy, a to i v případě použití silničního motorového vozidla.
A8: Důležité kritérium rozpočtu projektu je jeho přiměřenost. Tu dokáže odborná komise posoudit pouze tehdy, poskytne-li žadatel dostatečně podrobný rozpočet. Při vyplňování formuláře rozpočtu tak doporučujeme věnovat maximální péči sloupci "Odůvodnění se zřetelem na obsah" a zejména větší souhrnné položky podrobně rozepsat. Nebude-li rozpočet dostatečně podrobný, muže být jeho přiměřenost hodnocena velmi nízko. Pokud pro dostatečný popis jednotivých položek nebudete mít ve formuláři dostatek místa, je možné je detailněji rozepsat v příloze "Podrobný strukturovaný popis projektu", popřípadě přiložit samostatnou přílohu.
A9: Karta Rozpočet k vyplnění v DPMK se vyplní automaticky! Kartu prosím použijte pro vyplnění záložek "Rozpočet projektu" a "Zdroje financování" ve formuláři žádosti v DPMK, kam náklady z karty tohoto excelovského formuláře přepíšete. Údaje se musejí shodovat a jejich shoda se bude kontrolovat.

Sheet List3
A1: 1662 – Kulturní aktivity osob se zdravotním postižením a seniorů
A2: 1663 – Regionální kulturní tradice
A3: 1664 – Tradiční lidová kultura
A4: 1665 – Neprofesionální umělecké aktivity
A5: 1666 – Dětské estetické aktivity
A6: 1667 – Zahraniční kontakty v oblasti neprofesionálních uměleckých aktivit
A7: 1668 – Kulturní aktivity podporující rozvoj zdravé občanské společnosti
A8: 1669 – Stipendijní program ORNK
A9: 1671 – Kulturní aktivity příslušníků národnostních menšin
A10: 1672 – Kulturní aktivity příslušníků romské menšiny
