Workbook

Sheet pokyny k vyplnění rozpočtu
B1: POKYNY K VYPLNĚNÍ ROZPOČTU PROJEKTU
A3: · | B3: Žadatel o dotaci vyplňuje pouze záložku "POLOŽKOVÝ ROZPOČET A ZDŮVODNĚNÍ"
A4: · | B4: Záložka "Rozpočet k vyplnění v DPMK" se vyplní automaticky!
A6: · | B6: Podle této záložky vyplňte v DPMK ve formuláři žádosti záložky "Rozpočet projektu" a "Zdroje financování", kam náklady z karty tohoto excelovského formuláře přepište.
A7: · | B7: Porovnejte všechny číselné údaje týkající se jednotlivých tabulek a údajů v DPMK. Údaje musí vzájemně souhlasit, jejich shoda se bude kontrolovat.
A9: · | B9: Vyplňujte pouze bílé buňky. Součtové buňky jsou předvyplněny vzorcem.
A10: · | B10: Části s číselnými údaji vyplňujte čísly bez pomlček, měny Kč apod.
A12: · | B12: Pro psaní delších textů jsou buňky upraveny tak, že vepisovaný text se automaticky zalamuje, jen výšku řádku je potřeba rozšířit pro zobrazení celého textu manuálně (uchopením spodní linky řádku levým tlačítkem myši a jejím popotažením dolů)
A13: · | B13: Do tabulek a přehledů je možné vkládat řádky (přes příkaz "vložit" - "vložit řádky listu")
A14: · | B14: Pokud pro dostatečný popis jednotivých položek nebudete mít ve formuláři dostatek místa, je možné je detailněji rozepsat v příloze "Podrobný strukturovaný popis projektu", popřípadě přiložit samostatnou přílohu.
A16: · | B16: Důležité kritérium rozpočtu projektu je jeho přiměřenost. Při vyplňování formuláře rozpočtu doporučujeme věnovat maximální péči sloupci "Zdůvodnění ".

Sheet rozpočet k vyplnění v DPMK
A1: ROZPOČET PROJEKTU (náklady) - k vyplnění v DPMK
A2: NÁZEV | B2: Celkové náklady projektu | C2: Náklady projektu hrazené mimo dotaci | D2: Náklady projektu požadované hradit z dotace
A3: Neinvestiční náklady celkem | B3: =B4+B9+B16 -> 0 | C3: =C4+C9+C16 -> 0 | D3: =D4+D9+D16 -> 0
A4: Materiálové náklady | B4: ='položkový rozpočet a zdůvodnění'!G10 -> 0 | C4: =B4-D4 -> 0 | D4: ='položkový rozpočet a zdůvodnění'!I10 -> 0
A5: materiál | B5: ='položkový rozpočet a zdůvodnění'!G11 -> 0 | C5: =B5-D5 -> 0 | D5: ='položkový rozpočet a zdůvodnění'!I11 -> 0
A6: vybavení | B6: ='položkový rozpočet a zdůvodnění'!G12 -> 0 | C6: =B6-D6 -> 0 | D6: ='položkový rozpočet a zdůvodnění'!I12 -> 0
A7: kancelářské potřeby | B7: ='položkový rozpočet a zdůvodnění'!G13 -> 0 | C7: =B7-D7 -> 0 | D7: ='položkový rozpočet a zdůvodnění'!I13 -> 0
A8: jiné (mater.) | B8: ='položkový rozpočet a zdůvodnění'!G14 -> 0 | C8: =B8-D8 -> 0 | D8: ='položkový rozpočet a zdůvodnění'!I14 -> 0
A9: Nemateriálové n. (služby) | B9: ='položkový rozpočet a zdůvodnění'!G18 -> 0 | C9: =B9-D9 -> 0 | D9: ='položkový rozpočet a zdůvodnění'!I18 -> 0
A10: nájemné | B10: ='položkový rozpočet a zdůvodnění'!G19 -> 0 | C10: =B10-D10 -> 0 | D10: ='položkový rozpočet a zdůvodnění'!I19 -> 0
A11: přeprava osob a materiálu | B11: ='položkový rozpočet a zdůvodnění'!G20 -> 0 | C11: =B11-D11 -> 0 | D11: ='položkový rozpočet a zdůvodnění'!I20 -> 0
A12: cestovné | B12: ='položkový rozpočet a zdůvodnění'!G21 -> 0 | C12: =B12-D12 -> 0 | D12: ='položkový rozpočet a zdůvodnění'!I21 -> 0
A13: propagace | B13: ='položkový rozpočet a zdůvodnění'!G22 -> 0 | C13: =B13-D13 -> 0 | D13: ='položkový rozpočet a zdůvodnění'!I22 -> 0
A14: poštovné, telefon | B14: ='položkový rozpočet a zdůvodnění'!G23 -> 0 | C14: =B14-D14 -> 0 | D14: ='položkový rozpočet a zdůvodnění'!I23 -> 0
A15: jiné (služby) | B15: ='položkový rozpočet a zdůvodnění'!G24 -> 0 | C15: =B15-D15 -> 0 | D15: ='položkový rozpočet a zdůvodnění'!I24 -> 0
A16: Osobní náklady | B16: ='položkový rozpočet a zdůvodnění'!G39 -> 0 | C16: =B16-D16 -> 0 | D16: ='položkový rozpočet a zdůvodnění'!I39 -> 0
A17: ostatní osobní náklady | B17: ='položkový rozpočet a zdůvodnění'!G40 -> 0 | C17: =B17-D17 -> 0 | D17: ='položkový rozpočet a zdůvodnění'!I40 -> 0
A18: mzdy včetně odvodů (pouze o.p.s.) | B18: ='položkový rozpočet a zdůvodnění'!G41 -> 0 | C18: =B18-D18 -> 0 | D18: ='položkový rozpočet a zdůvodnění'!I41 -> 0

Sheet položkový rozpočet a zdůvodnění
B1: ROZPOČET PROJEKTU
B3: Výzva - program: | E3: 3522 - Kulturní aktivity v památkové péči
B4: Žadatel:
B5: Název projektu:
B7: NÁKLADY NA PROJEKT (nutno vyplnit oba sloupce a podrobně zdůvodnit jednotlivé položky požadované z dotace v tabulce níže)
H8: Výši dotace zadávejte v celých tisících
B9: Druh výdajů | G9: celkový rozpočet | I9: úhrada z dotace
B10: Materiálové náklady | G10: =SUM(G11:G14) -> 0 | H10: z toho | I10: =SUM(I11:I14) -> 0
B11: z toho | D11: materiál
D12: vybavení
D13: kancelářské potřeby
B14: jiné mater. náklady (specifikovat) | F14: ↓ | G14: =SUM(G15:G17) -> 0 | I14: =SUM(I15:I17) -> 0
B18: Nemateriálové n. (služby) | G18: =SUM(G19:G24) -> 0 | H18: z toho | I18: =SUM(I19:I24) -> 0
B19: z toho | D19: nájemné
D20: přeprava osob a materiálu
D21: cestovné*
D22: propagace
D23: poštovné, telefon
B24: jiné služby (specifikovat) | F24: ↓ | G24: =SUM(G25:G38) -> 0 | I24: =SUM(I25:I38) -> 0
B39: Osobní náklady | G39: =SUM(G40:G43) -> 0 | H39: z toho | I39: =SUM(I40:I43) -> 0
B40: z toho | D40: ostatní osobní náklady**
D41: mzdy včetně odvodů (pouze o.p.s.)
D42: počet osob: → | E42: →
B44: Neinvestiční náklady celkem | G44: =G10+G18+G39 -> 0 | H44: z toho | I44: =I10+I18+I39 -> 0
B45: % podíl dotace z celkových neinv. nákladů | I45: =IF(G44=0,"",I44/G44)
B46: * Z dotace lze hradit pouze jízdné ve výši odpovídající ceně jízdenky za prostředek hromadné dopravy, a to i v případě použití silničního motorového vozidla
B47: ** Jedná se o náklady hrazené na základě uzavřených DPP a DPČ, honoráře hrazené jinou formou patří do služeb
B49: Výzva - program: | E49: 3522 - Kulturní aktivity v památkové péči
B50: Žadatel: | E50: =E4 -> 0
B51: Název projektu: | E51: =E5 -> 0
B53: PODROBNÉ ZDŮVODNĚNÍ POŽADOVANÝCH POLOŽEK ROZPOČTU
B54: Konkretizujte a rozepište jednotlivé položky (materiál = výtvarné potřeby apod.) u dopravy a přepravy osob, materiálu uveďte, kým bude zajišťována; u nájemného uveďte, jaké prostory nebo co budete najímat, na jak dlouho a cenu za hod. nebo den; u osobních nákladů uvádějte přesný počet osob, Kč / hod. a předpokládaný počet hodin práce pro projekt, příp. výše úvazku a pracovní pozici, u OON uvádějte pouze DPP nebo DPČ – z dotace možné hradit max. 300 Kč/hod., honoráře hrazené jinou formou patří do služeb.
B57: UVÁDĚJTE POUZE POLOŽKY POŽADOVANÉ Z DOTACE
B58: Položka (druh výdajů) | F58: Požadovaná výše z dotace | G58: ZDŮVODNĚNÍ (se zřetelem na obsah projektu)
B77: Požadovaná výše dotace celkem | F77: =SUM(F59:F76) -> 0
B78: kontrolní součet z tabulky rozpočtu (=výše požadované dotace) | F78: =I44 -> 0

Sheet List3
A1: 1662 – Kulturní aktivity osob se zdravotním postižením a seniorů
A2: 1663 – Regionální kulturní tradice
A3: 1664 – Tradiční lidová kultura
A4: 1665 – Neprofesionální umělecké aktivity
A5: 1666 – Dětské estetické aktivity
A6: 1667 – Zahraniční kontakty v oblasti neprofesionálních uměleckých aktivit
A7: 1668 – Kulturní aktivity podporující rozvoj zdravé občanské společnosti
A8: 1669 – Stipendijní program ORNK
A9: 1671 – Kulturní aktivity příslušníků národnostních menšin
A10: 1672 – Kulturní aktivity příslušníků romské menšiny
