Workbook
Name _ftn1: 'K21 _2019_vyúčtování'!$A$56
Name _ftnref1: 'K21 _2019_vyúčtování'!#REF!
Name číselník: #REF!
Name knihovny: #REF!
Name okresy: #REF!
Name oslovení: #REF!
Name položky: #REF!
Name rozhodovatko: #REF!
Name subjekt: #REF!
Name typ: #REF!

Sheet K21 _2019_vyúčtování
A1: Vyúčtování finančních prostředků – Knihovna 21. století – 2019
A3: Příjemce dotace
A4: Název příjemce dotace:
A5: Adresa:
A6: IČ:
A7: Kraj:
A8: Název zřizovatele (pro příspěvkové organizace):
A9: Plátce DPH (ano/ne):
A10: Vyúčtování provedl (titul, jmeno, příjmení):
A11: Kontaktní telefon a email:
A12: Identifikátory dotace
A13: Číslo rozhodnutí vydaného MK:
A14: Název projektu:
A15: Program: | E15: Knihovna 21. století
A16: Zdroje financování projektu (v Kč):
A17: Dotace v Kč (dle příslušného rozhodnutí): | F17: 0
A18: ● Dotace - skutečně čerpáno: | F18: =I93 -> 0
A19: ● Vlastní podíl na financování projektu: | F19: =H93-I93-F20-F21-F22-F23-F24 -> 0
A20: ● Vstupné, konf. poplatky, předplatné, prodej...: | F20: 0
A21: ● Jiné ústřední orgány (ministerstva, mimo MK): | F21: 0
A22: ● Orgány státní správy a samosprávy (kraj, obec): | F22: 0
A23: ● Sponzoři (na základě smlouvy o reklamě): | F23: 0
A24: ● Ostatní zdroje (dary, zahraniční zdroje apod.): | F24: 0
A25: Celkové náklady na projekt (tj. zdroje financování celkem): | F25: =F18+F19+F20+F21+F22+F23+F24 -> 0
A26: % podíl dotace MK na celkových nákladech (max. 50%): | F26: =IFERROR(F18/F25, 0) -> 0
A27: Nevyčerpané finanční prostředky (nevyčerpaná výše dotace): | F27: =F17-F18 -> 0
A28: (uveďte datum převodu nevyčerpaných prostředků a doložte fotokopií avíza)
A30: Vyúčtování dotace (projektu) vypracujte v souladu s rozhodnutím a podmínkami poskytnutí dotace a zašlete nejpozději do 15. ledna 2020 v jednom vyhotovení datovou schránkou na MK (ID datové schránky: 8spaaur, podepsané certifikovaným digitálním podpisem nebo naskenované s razítkem a podpisem) nebo písemně na adresu: Ministerstvo kultury, oddělení literatury a knihoven, Maltézské náměstí 1, 118 11 Praha 1, případně osobně podatelnou MK.
A31: Za rozhodující se považuje datum odevzdání do poštovní přepravy (rozhoduje razítko pošty, při osobním doručení razítko podatelny MK).
A34: Čestné prohlášení k vyúčtování dotace
A36: Příjemce dotace čestně prohlašuje, že údaje, které uvedl ve formuláři vyúčtování:
A37: 1) jsou uvedeny úplně a správně,
A38: 2) odpovídají skutečnosti,
A39: 3) odpovídají účetnictví příjemce,
A40: 4) veškeré účetní doklady vztahující se k projektu jsou v případě kontroly projektu dostupné v účetnictví příjemce.
A42: Podepisující osoba, není-li sama příjemcem dotace, prohlašuje, že je oprávněna jednat a podepisovat jménem příjemce dotace.
A44: Podepisující osoba si je vědoma možných správně-právních i trestněprávních důsledků nepravdivého čestného prohlášení (včetně trestného činu dotačního podvodu podle § 212 trestního zákona).
A47: V | C47: Dne:
A48: …………………………………………. | D48: ………………………..
C51: Jméno a příjmení: | G51: Podpis a razítko:
E52: ……………………………………………………………………….. | H52: ……………………………………………………..
A53: příjemce dotace (resp. osoby oprávněné jednat jménem příjemce, je-li jím právnická osoba)
A54: Příloha č. 1
A55: Doklady k realizaci projektu
A56: Návod pro vyplnění formuláře: Ve sloupcích "Druh dokladu" a "Položka dle rozpočtu dotace" vyberte variantně údaje dle nastaveného seznamu. Tím dochází k automatickému sčítání položek hrazených z dotace, dle struktury rozpočtu dotace v rozhodnutí (rozpis je uveden v pravém spodním rohu formuláře přílohy č. 1). [1] tj. faktura, smlouva nebo dohoda (DPP/DPČ). Uvedené zkratky - FP = faktura přijatá, BV = bankovní výpis, VP = výdajový pokladní doklad, DPP = dohoda o provedení práce, DPČ = dohoda o činnosti, SML = smlouva o dílo. [2] Honorářové náklady = Faktury - lektorská a přednášková činnost, OON - tj. dohody o provedení práce, dohody o pracovní činnosti; Materiál = nákup materiálu - např. papíry, výtvarné potřeby, tonery, potřeby na propagaci, materiální ceny do soutěží, audioknihy apod.; Služby ostatní = nákup služeb - např. nájemné, služby pošt a telekomunikací, náklady na dopravu apod. [3] např. honorář / lektorné (komu za co), pronájem (čeho), cestovné (komu), nákup materiálu (specifikovat včetně akce/účelu), nákup služeb apod.
A58: Příklad: | E58: VZOR
A59: Číslo dokladu dle účetní evidence | B59: Datum úhrady (den / měsíc / rok) | C59: Druh dokladu [1] | D59: Položka dle rozpočtu dotace [2] | E59: Předmět platby specifikovat [3] | H59: Celkem | I59: z toho hrazeno z dotace
A60: FA 20147 | B60: 43572 | C60: FP | D60: Honorářové náklady (OON, služby) | E60: Lektorné: pan Nový - Čtení mezi řádky | H60: 5000 | I60: 2750
A61: 07/2019 | B61: 43685 | C61: DPP | D61: Honorářové náklady (OON, služby) | E61: OON - DPP 7/2019 | H61: 3044 | I61: 250
A62: 20179 | B62: 43643 | C62: VP | D62: Materiál | E62: Barevné papíry | H62: 456 | I62: 0
A64: (účelový znak dotace: 34 070)
A65: Číslo dokladu dle účetní evidence | B65: Datum úhrady (den / měsíc / rok) | C65: Druh dokladu [1] | D65: Položka dle rozpočtu dotace [2] | E65: Předmět platby specifikovat [3] | H65: Celkem | I65: z toho hrazeno z dotace
E93: Celkem | H93: =SUM(H66:H92) -> 0 | I93: =SUM(I66:I92) -> 0
H95: Čerpání dotace dle položek v rozhodnutí:
A96: Pokud je ve spoluúčasti projektu kalkulováno s dobrovolníky, přiložte kopie příkazních smluv nebo jiných dokumentů, na jejichž základě byla dobrovolnická práce provedena; u projektů zaměřených na pořízení audioknih a mluvených knih přiložte seznam nakoupených titulů. | H96: Honorářové náklady (OON, služby) | I96: =List3!A30 -> 0
H97: Ostatní nákupy | I97: =List3!B30 -> 0
H98: Služby | I98: =List3!C30 -> 0
A100: Fotokopie ostatních účetních dokladů předloží příjemce dotace pouze na základě vyžádání ze strany oddělení literatury a knihoven MK ČR.
A105: V | C105: Dne:
A106: …………………………………………. | D106: ……………………….. | G106: …….……………………………………………………………………………
G107: jméno, příjmení, podpis a razítko příjemce dotace (resp. osoby oprávněné jednat jménem příjemce, je-li jím právnická osoba)
A108: Příloha č. 2
A109: Zhodnocení projektu
A111: Slovní zhodnocení projektu a rekapitulace případných změn projektu provedených a náležitě oznámených během roku, při zpracování využijte následující osnovu:
A113: (Pro případné zařádkování v buňce použijte Alt+Enter)
A114: 1. Stručná charakteristika cíle projektu 2. Realizovaný postup řešení, případné změny 3. Dosažené výsledky, charakteristika výstupů, přínos řešení

Sheet List2
B2: ÚZ
B3: neinvestiční prostředky | C3: 34053
B4: investiční prostředky | C4: 34544
B8: Plátce DPH
C9: ano
C10: ne
B13: Druh dokladu
B14: Faktura přijatá | C14: FP
B15: Bankovní výpis | C15: BV
B16: Výdajový pokladní doklad | C16: VP
B17: Dohoda o provedení práce | C17: DPP
B18: Dohoda o činnosti | C18: DPČ
B19: Smlova o dílo | C19: SML
B21: Položky z rozhodnutí
B22: Honorářové náklady | C22: Honorářové náklady (OON, služby)
B23: Materiálové náklady | C23: Materiál
B24: Služby ostatní | C24: Služby ostatní

Sheet List3
A1: Honorářové náklady (OON, služby) | B1: Materiál | C1: Služby ostatní
A2: dotace | B2: dotace | C2: dotace
A3: =IF('K21 _2019_vyúčtování'!D66="Honorářové náklady (OON, služby)",'K21 _2019_vyúčtování'!I66,0) -> 0 | B3: =IF('K21 _2019_vyúčtování'!D66="Materiál",'K21 _2019_vyúčtování'!I66,0) -> 0 | C3: =IF('K21 _2019_vyúčtování'!D66="Služby ostatní",'K21 _2019_vyúčtování'!I66,0) -> 0
A4: =IF('K21 _2019_vyúčtování'!D67="Honorářové náklady (OON, služby)",'K21 _2019_vyúčtování'!I67,0) -> 0 | B4: =IF('K21 _2019_vyúčtování'!D67="Materiál",'K21 _2019_vyúčtování'!I67,0) -> 0 | C4: =IF('K21 _2019_vyúčtování'!D67="Služby ostatní",'K21 _2019_vyúčtování'!I67,0) -> 0
A5: =IF('K21 _2019_vyúčtování'!D68="Honorářové náklady (OON, služby)",'K21 _2019_vyúčtování'!I68,0) -> 0 | B5: =IF('K21 _2019_vyúčtování'!D68="Materiál",'K21 _2019_vyúčtování'!I68,0) -> 0 | C5: =IF('K21 _2019_vyúčtování'!D68="Služby ostatní",'K21 _2019_vyúčtování'!I68,0) -> 0
A6: =IF('K21 _2019_vyúčtování'!D69="Honorářové náklady (OON, služby)",'K21 _2019_vyúčtování'!I69,0) -> 0 | B6: =IF('K21 _2019_vyúčtování'!D69="Materiál",'K21 _2019_vyúčtování'!I69,0) -> 0 | C6: =IF('K21 _2019_vyúčtování'!D69="Služby ostatní",'K21 _2019_vyúčtování'!I69,0) -> 0
A7: =IF('K21 _2019_vyúčtování'!D70="Honorářové náklady (OON, služby)",'K21 _2019_vyúčtování'!I70,0) -> 0 | B7: =IF('K21 _2019_vyúčtování'!D70="Materiál",'K21 _2019_vyúčtování'!I70,0) -> 0 | C7: =IF('K21 _2019_vyúčtování'!D70="Služby ostatní",'K21 _2019_vyúčtování'!I70,0) -> 0
A8: =IF('K21 _2019_vyúčtování'!D71="Honorářové náklady (OON, služby)",'K21 _2019_vyúčtování'!I71,0) -> 0 | B8: =IF('K21 _2019_vyúčtování'!D71="Materiál",'K21 _2019_vyúčtování'!I71,0) -> 0 | C8: =IF('K21 _2019_vyúčtování'!D71="Služby ostatní",'K21 _2019_vyúčtování'!I71,0) -> 0
A9: =IF('K21 _2019_vyúčtování'!D72="Honorářové náklady (OON, služby)",'K21 _2019_vyúčtování'!I72,0) -> 0 | B9: =IF('K21 _2019_vyúčtování'!D72="Materiál",'K21 _2019_vyúčtování'!I72,0) -> 0 | C9: =IF('K21 _2019_vyúčtování'!D72="Služby ostatní",'K21 _2019_vyúčtování'!I72,0) -> 0
A10: =IF('K21 _2019_vyúčtování'!D73="Honorářové náklady (OON, služby)",'K21 _2019_vyúčtování'!I73,0) -> 0 | B10: =IF('K21 _2019_vyúčtování'!D73="Materiál",'K21 _2019_vyúčtování'!I73,0) -> 0 | C10: =IF('K21 _2019_vyúčtování'!D73="Služby ostatní",'K21 _2019_vyúčtování'!I73,0) -> 0
A11: =IF('K21 _2019_vyúčtování'!D74="Honorářové náklady (OON, služby)",'K21 _2019_vyúčtování'!I74,0) -> 0 | B11: =IF('K21 _2019_vyúčtování'!D74="Materiál",'K21 _2019_vyúčtování'!I74,0) -> 0 | C11: =IF('K21 _2019_vyúčtování'!D74="Služby ostatní",'K21 _2019_vyúčtování'!I74,0) -> 0
A12: =IF('K21 _2019_vyúčtování'!D75="Honorářové náklady (OON, služby)",'K21 _2019_vyúčtování'!I75,0) -> 0 | B12: =IF('K21 _2019_vyúčtování'!D75="Materiál",'K21 _2019_vyúčtování'!I75,0) -> 0 | C12: =IF('K21 _2019_vyúčtování'!D75="Služby ostatní",'K21 _2019_vyúčtování'!I75,0) -> 0
A13: =IF('K21 _2019_vyúčtování'!D76="Honorářové náklady (OON, služby)",'K21 _2019_vyúčtování'!I76,0) -> 0 | B13: =IF('K21 _2019_vyúčtování'!D76="Materiál",'K21 _2019_vyúčtování'!I76,0) -> 0 | C13: =IF('K21 _2019_vyúčtování'!D76="Služby ostatní",'K21 _2019_vyúčtování'!I76,0) -> 0
A14: =IF('K21 _2019_vyúčtování'!D77="Honorářové náklady (OON, služby)",'K21 _2019_vyúčtování'!I77,0) -> 0 | B14: =IF('K21 _2019_vyúčtování'!D77="Materiál",'K21 _2019_vyúčtování'!I77,0) -> 0 | C14: =IF('K21 _2019_vyúčtování'!D77="Služby ostatní",'K21 _2019_vyúčtování'!I77,0) -> 0
... A29: =IF('K21 _2019_vyúčtování'!D92="Honorářové náklady (OON, služby)",'K21 _2019_vyúčtování'!I92,0) -> 0 | B29: =IF('K21 _2019_vyúčtování'!D92="Materiál",'K21 _2019_vyúčtování'!I92,0) -> 0 | C29: =IF('K21 _2019_vyúčtování'!D92="Služby ostatní",'K21 _2019_vyúčtování'!I92,0) -> 0
A30: =SUM(A3:A29) -> 0 | B30: =SUM(B3:B29) -> 0 | C30: =SUM(C3:C29) -> 0
